BEGIN:VCALENDAR
VERSION:2.0
PRODID:-//Patrice Soletti - Artiste musicien - ECPv5.1.6//NONSGML v1.0//EN
CALSCALE:GREGORIAN
METHOD:PUBLISH
X-WR-CALNAME:Patrice Soletti - Artiste musicien
X-ORIGINAL-URL:https://www.patricesoletti.com
X-WR-CALDESC:Events for Patrice Soletti - Artiste musicien
BEGIN:VTIMEZONE
TZID:Europe/Paris
BEGIN:DAYLIGHT
TZOFFSETFROM:+0100
TZOFFSETTO:+0200
TZNAME:CEST
DTSTART:20210328T010000
END:DAYLIGHT
BEGIN:STANDARD
TZOFFSETFROM:+0200
TZOFFSETTO:+0100
TZNAME:CET
DTSTART:20211031T010000
END:STANDARD
END:VTIMEZONE
BEGIN:VEVENT
DTSTART;TZID=Europe/Paris:20211106T200000
DTEND;TZID=Europe/Paris:20211106T233000
DTSTAMP:20260420T141713
CREATED:20211101T214324Z
LAST-MODIFIED:20211101T214417Z
UID:1596-1636228800-1636241400@www.patricesoletti.com
SUMMARY:Facteur Zebre
DESCRIPTION:Facteur Zèbre un quatuor à rayures\, qui danse parmi les dinosaures… mais encore ? Un groupe de musiciens atypique\, espèce «Huue ! Dada Rock»… Mais encore ? Facteur Zèbre sonne toujours très Rock avec la voix et la langue du poète Pierre Soletti\, fondateur et diseur/chanteur de ce groupe bruyant et bruissant de notes prises dans des carnets à la va-vite ! Plongez dans le rythme et les mots de ce groupe inclassable. \nTarifs : 5€/10€\ntarif réduit : Carte Avantages-spectateurs\, Carte Avantages- Jeunes
URL:https://www.patricesoletti.com/event/facteur-zebre/
LOCATION:Le boeuf sur le toit\, 135 Place du Maréchal Juin\, lons le saunier\, 39000\, France
ATTACH;FMTTYPE=image/jpeg:https://www.patricesoletti.com/wp-content/uploads/2021/11/Pierre_Soletti__Facteur_Zebre.jpg
END:VEVENT
END:VCALENDAR