BEGIN:VCALENDAR
VERSION:2.0
PRODID:-//Patrice Soletti - Artiste musicien - ECPv5.1.6//NONSGML v1.0//EN
CALSCALE:GREGORIAN
METHOD:PUBLISH
X-WR-CALNAME:Patrice Soletti - Artiste musicien
X-ORIGINAL-URL:https://www.patricesoletti.com
X-WR-CALDESC:Events for Patrice Soletti - Artiste musicien
BEGIN:VTIMEZONE
TZID:Europe/Paris
BEGIN:DAYLIGHT
TZOFFSETFROM:+0100
TZOFFSETTO:+0200
TZNAME:CEST
DTSTART:20220327T010000
END:DAYLIGHT
BEGIN:STANDARD
TZOFFSETFROM:+0200
TZOFFSETTO:+0100
TZNAME:CET
DTSTART:20221030T010000
END:STANDARD
END:VTIMEZONE
BEGIN:VEVENT
DTSTART;TZID=Europe/Paris:20220825T210000
DTEND;TZID=Europe/Paris:20220825T230000
DTSTAMP:20260423T113305
CREATED:20220701T223248Z
LAST-MODIFIED:20220701T223336Z
UID:2228-1661461200-1661468400@www.patricesoletti.com
SUMMARY:NEFERTITI
DESCRIPTION:Nefertiti\n\nCONCERT ILLUSTRÉ JEUNE PUBLIC\n\n\nNefertiti est un concert illustré et poétique autour du personnage mythique de l’Egypte ancienne\, incluant musicien·nes\, visuels et création vidéo. Il raconte l’histoire mystérieuse de la pharaonne\, une des figures féminines les plus marquantes de son époque\, de manière évocatrice et suggérée\, laissant libre cours à l’imagination de chacun·e. À travers le regard du sculpteur Thoutmôsis\, on imagine la manière dont l’image et la beauté de Nefertiti ont été sublimées et gravées dans le temps. Le concert est illustré musicalement par les musicien·nes du Collectif Koa\, visuellement grâce aux illustrations d’Olivier Bonhomme projetées par vidéo et scénographié par Daniel Fayet. \nDistribution\n\nCaroline Sentis : voix\, chants\nPatrice Soletti : guitare électrique\nAlfred Vilayleck : basse électrique\nMaxime Rouayroux : batterie\nFlorian Vincent : ingénieur son\nThomas Bringuier : ingénieur lumière\nOlivier Bonhomme : illustrations\nDaniel Fayet : scénographie\nPierre Soletti : textes
URL:https://www.patricesoletti.com/event/nefertiti-3/
ATTACH;FMTTYPE=image/png:https://www.patricesoletti.com/wp-content/uploads/2022/06/Capture-d’écran-2022-06-11-à-08.41.58.png
END:VEVENT
END:VCALENDAR