BEGIN:VCALENDAR
VERSION:2.0
PRODID:-//Patrice Soletti - Artiste musicien - ECPv5.1.6//NONSGML v1.0//EN
CALSCALE:GREGORIAN
METHOD:PUBLISH
X-WR-CALNAME:Patrice Soletti - Artiste musicien
X-ORIGINAL-URL:https://www.patricesoletti.com
X-WR-CALDESC:Events for Patrice Soletti - Artiste musicien
BEGIN:VTIMEZONE
TZID:Europe/Paris
BEGIN:DAYLIGHT
TZOFFSETFROM:+0100
TZOFFSETTO:+0200
TZNAME:CEST
DTSTART:20240331T010000
END:DAYLIGHT
BEGIN:STANDARD
TZOFFSETFROM:+0200
TZOFFSETTO:+0100
TZNAME:CET
DTSTART:20241027T010000
END:STANDARD
END:VTIMEZONE
BEGIN:VEVENT
DTSTART;TZID=Europe/Paris:20241129T190000
DTEND;TZID=Europe/Paris:20241129T200000
DTSTAMP:20260420T112231
CREATED:20241111T095922Z
LAST-MODIFIED:20241111T095922Z
UID:13356-1732906800-1732910400@www.patricesoletti.com
SUMMARY:Patch Work
DESCRIPTION:Jean-François Oliver : vibraphone\, effets\, programmation\nPatrice Soletti : guitare électrique\, effets\, objets \nPatrice Soletti et Jean-François Oliver sont des adeptes de la composition instantanée\, une approche musicale qui consiste à créer et structurer la musique en temps réel\, incluant son développement\, son orchestration et ses thématiques. \nLeur instrumentation\, composée de guitare et de vibraphone préparés\, se combine musicalement à un environnement informatique qui diffuse et traite le son\, créant ainsi une relation sensible entre les musiciens et la technologie.
URL:https://www.patricesoletti.com/event/patch-work/
LOCATION:La baignoire\, 7 rue Brueys\, Montpellier\, 34000
ATTACH;FMTTYPE=image/jpeg:https://www.patricesoletti.com/wp-content/uploads/2024/11/content.jpeg
END:VEVENT
END:VCALENDAR