BEGIN:VCALENDAR
VERSION:2.0
PRODID:-//Patrice Soletti - Artiste musicien - ECPv5.1.6//NONSGML v1.0//EN
CALSCALE:GREGORIAN
METHOD:PUBLISH
X-WR-CALNAME:Patrice Soletti - Artiste musicien
X-ORIGINAL-URL:https://www.patricesoletti.com
X-WR-CALDESC:Events for Patrice Soletti - Artiste musicien
BEGIN:VTIMEZONE
TZID:Europe/Paris
BEGIN:DAYLIGHT
TZOFFSETFROM:+0100
TZOFFSETTO:+0200
TZNAME:CEST
DTSTART:20250330T010000
END:DAYLIGHT
BEGIN:STANDARD
TZOFFSETFROM:+0200
TZOFFSETTO:+0100
TZNAME:CET
DTSTART:20251026T010000
END:STANDARD
END:VTIMEZONE
BEGIN:VEVENT
DTSTART;TZID=Europe/Paris:20250621T120000
DTEND;TZID=Europe/Paris:20250621T233000
DTSTAMP:20260426T042455
CREATED:20250617T120001Z
LAST-MODIFIED:20250617T120001Z
UID:13447-1750507200-1750548600@www.patricesoletti.com
SUMMARY:Midi Minuit
DESCRIPTION:
URL:https://www.patricesoletti.com/event/midi-minuit/
ATTACH;FMTTYPE=image/jpeg:https://www.patricesoletti.com/wp-content/uploads/2025/06/Midi-Minuit-25.jpeg
END:VEVENT
BEGIN:VEVENT
DTSTART;TZID=Europe/Paris:20250627T190000
DTEND;TZID=Europe/Paris:20250627T190000
DTSTAMP:20260426T042455
CREATED:20250617T115828Z
LAST-MODIFIED:20250617T115828Z
UID:13443-1751050800-1751050800@www.patricesoletti.com
SUMMARY:Solo
DESCRIPTION:
URL:https://www.patricesoletti.com/event/solo/
ATTACH;FMTTYPE=image/jpeg:https://www.patricesoletti.com/wp-content/uploads/2025/06/Coves-Soletti-scaled.jpg
END:VEVENT
END:VCALENDAR