BEGIN:VCALENDAR
VERSION:2.0
PRODID:-//Patrice Soletti - Artiste musicien - ECPv5.1.6//NONSGML v1.0//EN
CALSCALE:GREGORIAN
METHOD:PUBLISH
X-WR-CALNAME:Patrice Soletti - Artiste musicien
X-ORIGINAL-URL:https://www.patricesoletti.com
X-WR-CALDESC:Events for Patrice Soletti - Artiste musicien
BEGIN:VTIMEZONE
TZID:Europe/Paris
BEGIN:DAYLIGHT
TZOFFSETFROM:+0100
TZOFFSETTO:+0200
TZNAME:CEST
DTSTART:20250330T010000
END:DAYLIGHT
BEGIN:STANDARD
TZOFFSETFROM:+0200
TZOFFSETTO:+0100
TZNAME:CET
DTSTART:20251026T010000
END:STANDARD
END:VTIMEZONE
BEGIN:VEVENT
DTSTART;VALUE=DATE:20251128
DTEND;VALUE=DATE:20251130
DTSTAMP:20260425T204244
CREATED:20251118T203416Z
LAST-MODIFIED:20251118T203447Z
UID:13451-1764288000-1764460799@www.patricesoletti.com
SUMMARY:Cie Action d'Espaces - plateau partagé
DESCRIPTION:
URL:https://www.patricesoletti.com/event/cie-action-despaces-plateau-partage/
LOCATION:CRAC\, 26 quai Aspirant Herber\, sete\, 34200\, France
ATTACH;FMTTYPE=image/jpeg:https://www.patricesoletti.com/wp-content/uploads/2022/02/actiondespace.jpg
END:VEVENT
END:VCALENDAR