BEGIN:VCALENDAR
VERSION:2.0
PRODID:-//Patrice Soletti - Artiste musicien - ECPv5.1.6//NONSGML v1.0//EN
CALSCALE:GREGORIAN
METHOD:PUBLISH
X-WR-CALNAME:Patrice Soletti - Artiste musicien
X-ORIGINAL-URL:https://www.patricesoletti.com
X-WR-CALDESC:Events for Patrice Soletti - Artiste musicien
BEGIN:VTIMEZONE
TZID:Europe/Paris
BEGIN:DAYLIGHT
TZOFFSETFROM:+0100
TZOFFSETTO:+0200
TZNAME:CEST
DTSTART:20250330T010000
END:DAYLIGHT
BEGIN:STANDARD
TZOFFSETFROM:+0200
TZOFFSETTO:+0100
TZNAME:CET
DTSTART:20251026T010000
END:STANDARD
END:VTIMEZONE
BEGIN:VEVENT
DTSTART;VALUE=DATE:20251201
DTEND;VALUE=DATE:20251206
DTSTAMP:20260425T190622
CREATED:20251118T203826Z
LAST-MODIFIED:20251118T203826Z
UID:13454-1764547200-1764979199@www.patricesoletti.com
SUMMARY:FRIDA Résidence de création avec Collectif KOA
DESCRIPTION:Résidence de création nouveau concert tout public.
URL:https://www.patricesoletti.com/event/frida-residence-de-creation-avec-collectif-koa/
ATTACH;FMTTYPE=image/png:https://www.patricesoletti.com/wp-content/uploads/2025/11/Capture-decran-2025-11-18-a-21.37.06.png
END:VEVENT
BEGIN:VEVENT
DTSTART;VALUE=DATE:20251206
DTEND;VALUE=DATE:20251208
DTSTAMP:20260425T190622
CREATED:20251118T230640Z
LAST-MODIFIED:20251118T230640Z
UID:13463-1764979200-1765151999@www.patricesoletti.com
SUMMARY:Stage d'Improvisation
DESCRIPTION:DEUX JOURS DE PRATIQUE COLLECTIVE \nDÉCOUVRIR DE NOUVELLES TECHNIQUES\nENRICHIR SON VOCALULAIRE ARTISTIQUE\nDÉVELOPPER SA CRÉATIVITÉ\nJour 1 : accueil dès 9h30 \n10h à 13h atelier pratique en collectif\, exercices d’échauffement\, développement de l’écoute\, techniques…\n13h à 14h pause – repas tiré du sac.\n14h à 18h atelier pratique tutti & en petites formations duos\, trios\, 4tet \nJour 2 : accueil dès 9h30  \n10h-13h atelier pratique : échauffement\, développement de l’écoute\, pratique en tutti\n13h à 14h pause – repas tiré du sac\n14h à 16h mise en place de la restitution\, raccords\n16h à 17h restitution publique sous la forme d’un concert\n17h à 18h : discussion et retours
URL:https://www.patricesoletti.com/event/stage-dimprovisation/
LOCATION:Quartier Gare\, 23 rue Boyer\, Montpellier\, 34000\, France
ATTACH;FMTTYPE=image/png:https://www.patricesoletti.com/wp-content/uploads/2025/11/STAGE-67-DEC-25.png
END:VEVENT
BEGIN:VEVENT
DTSTART;TZID=Europe/Paris:20251206T203000
DTEND;TZID=Europe/Paris:20251206T223000
DTSTAMP:20260425T190622
CREATED:20251118T231104Z
LAST-MODIFIED:20251118T231132Z
UID:13467-1765053000-1765060200@www.patricesoletti.com
SUMMARY:SOLO
DESCRIPTION:Dans le cadre du stage d’improvisation : Solo à 20h30 + surprises
URL:https://www.patricesoletti.com/event/solo-2/
LOCATION:Quartier Gare\, 23 rue Boyer\, Montpellier\, 34000\, France
ATTACH;FMTTYPE=image/jpeg:https://www.patricesoletti.com/wp-content/uploads/2020/04/MainsSoletBandCampMedaillonBN.jpg
END:VEVENT
BEGIN:VEVENT
DTSTART;VALUE=DATE:20251213
DTEND;VALUE=DATE:20251215
DTSTAMP:20260425T190622
CREATED:20251118T204138Z
LAST-MODIFIED:20251118T204138Z
UID:13457-1765584000-1765756799@www.patricesoletti.com
SUMMARY:NEFERTITI
DESCRIPTION:
URL:https://www.patricesoletti.com/event/nefertiti-6/
LOCATION:Auditorium de Puteaux\, PUTEAU\, France
ATTACH;FMTTYPE=image/png:https://www.patricesoletti.com/wp-content/uploads/2022/10/Nefertiti-900x298.png
END:VEVENT
BEGIN:VEVENT
DTSTART;TZID=Europe/Paris:20251217T193000
DTEND;TZID=Europe/Paris:20251218T203000
DTSTAMP:20260425T190622
CREATED:20251118T231924Z
LAST-MODIFIED:20251118T231924Z
UID:13470-1765999800-1766089800@www.patricesoletti.com
SUMMARY:Depuis Mon Corps Chaud - Cie Chagall Sans M
DESCRIPTION:Theatre / musique\nsur un texte de Gwendoline Soublin \nAvec Claire Engel & Alex Selmane ( lecture) \nPatrice Soletti (musique en direct) \nconception : Claire Engel
URL:https://www.patricesoletti.com/event/depuis-mon-corps-chaud-cie-chagall-sans-m/
LOCATION:La baignoire\, 7 rue Brueys\, Montpellier\, 34000
ATTACH;FMTTYPE=image/jpeg:https://www.patricesoletti.com/wp-content/uploads/2025/11/DDC5EE67-4C3D-4937-8E96-E9AE1450DA18_1_105_c-2.jpeg
END:VEVENT
BEGIN:VEVENT
DTSTART;TZID=Europe/Paris:20251219T143000
DTEND;TZID=Europe/Paris:20251219T160000
DTSTAMP:20260425T190622
CREATED:20251118T232712Z
LAST-MODIFIED:20251118T232712Z
UID:13473-1766154600-1766160000@www.patricesoletti.com
SUMMARY:Ceci Est Mon Corps - Cie Chagall Sans M
DESCRIPTION:Lecture / Musique sur un texte de Marie Dilasser Aka Mardi \nAvec Charlotte Daguet (lecture) \nPatrice Soletti (musique) \nconception : Claire Engel
URL:https://www.patricesoletti.com/event/ceci-est-mon-corps-cie-chagall-sans-m/
LOCATION:Asso\, Nimes\, 30000\, France
ATTACH;FMTTYPE=image/png:https://www.patricesoletti.com/wp-content/uploads/2025/11/20240430_CHAGALL_visuel-haut-newsletter_800x560.png
END:VEVENT
END:VCALENDAR